BEGIN:VCALENDAR
VERSION:2.0
PRODID:-//OVER 90 FREE EVENTS IN DUBLIN CASTLE, CITY LIBRARIES, AND OTHER VENUES - ECPv4.6.3//NONSGML v1.0//EN
CALSCALE:GREGORIAN
METHOD:PUBLISH
X-WR-CALNAME:OVER 90 FREE EVENTS IN DUBLIN CASTLE, CITY LIBRARIES, AND OTHER VENUES
X-ORIGINAL-URL:http://dublinfestivalofhistory.ie
X-WR-CALDESC:Events for OVER 90 FREE EVENTS IN DUBLIN CASTLE, CITY LIBRARIES, AND OTHER VENUES
BEGIN:VEVENT
DTSTART;TZID=Europe/Dublin:20160924T150000
DTEND;TZID=Europe/Dublin:20160924T170000
DTSTAMP:20171103T190550
CREATED:20160811T110853Z
LAST-MODIFIED:20160826T104405Z
UID:6318-1474729200-1474736400@dublinfestivalofhistory.ie
SUMMARY:1943 - A Dance Odyssey - a film by Deirdre Mulrooney
DESCRIPTION:Once upon a time\, during World War II\, enigmatic Irish-German woman Erina Brady brought cutting edge modern dance to Ireland from Germany. This film brings five of Brady&#8217;s former tiny tots on an odyssey to a bygone era in her enchanted Irish School of Dance Art studio. \nProduced\, written and directed by Deirdre Mulrooney with original score by Rossa O Snodaigh (Kila). The film will be followed by a discussion and Q&A with the director\, chaired by Bruce Arnold. \nNo booking required. All welcome on a first-come\, first-seated basis \nEvents are liable to change. To stay informed of any changes in the Festival programme\, please sign up to our mailing list \n
URL:http://dublinfestivalofhistory.ie/event/1943-a-dance-odyssey/
LOCATION:138 - 144 Pearse Street \, Dublin 2\, Ireland
CATEGORIES:Films
ATTACH;FMTTYPE=image/jpeg:http://dublinfestivalofhistory.ie/wp-content/uploads/2016/08/Dance_Odyssey_Mgt_Becker.jpg
END:VEVENT
END:VCALENDAR