BEGIN:VCALENDAR
VERSION:2.0
PRODID:-//OVER 90 FREE EVENTS IN DUBLIN CASTLE, CITY LIBRARIES, AND OTHER VENUES - ECPv4.6.3//NONSGML v1.0//EN
CALSCALE:GREGORIAN
METHOD:PUBLISH
X-WR-CALNAME:OVER 90 FREE EVENTS IN DUBLIN CASTLE, CITY LIBRARIES, AND OTHER VENUES
X-ORIGINAL-URL:http://dublinfestivalofhistory.ie
X-WR-CALDESC:Events for OVER 90 FREE EVENTS IN DUBLIN CASTLE, CITY LIBRARIES, AND OTHER VENUES
BEGIN:VEVENT
DTSTART;TZID=Europe/Dublin:20160925T150000
DTEND;TZID=Europe/Dublin:20160925T160000
DTSTAMP:20171103T185211
CREATED:20160811T082420Z
LAST-MODIFIED:20160819T130302Z
UID:6303-1474815600-1474819200@dublinfestivalofhistory.ie
SUMMARY:Five Months of Failure: The Battle of the Somme and the 10th Royal Dublin Fusiliers
DESCRIPTION:Join Lar Joyce\, curator of Military History at the National Museum\, for a talk examining the Battle of the Somme\, including stories of the 10th Royal Dublin Fusiliers from the Royal Barracks Dublin (now Collins Barracks). \nNo booking required\, places allocated 15 minutes before talk begins. \nEvents are liable to change. To stay informed of any changes in the Festival programme\, please sign up to our mailing list \n
URL:http://dublinfestivalofhistory.ie/event/five-months-of-failure-the-battle-of-the-somme-and-the-10th-royal-dublin-fusiliers/
LOCATION:Collins Barracks\, Benburb St\, Dublin 7\, Ireland
CATEGORIES:Around the City
ATTACH;FMTTYPE=image/jpeg:http://dublinfestivalofhistory.ie/wp-content/uploads/2014/08/Web-RDFAinjuredmen.jpg
END:VEVENT
END:VCALENDAR