BEGIN:VCALENDAR
VERSION:2.0
PRODID:-//OVER 90 FREE EVENTS IN DUBLIN CASTLE, CITY LIBRARIES, AND OTHER VENUES - ECPv4.6.3//NONSGML v1.0//EN
CALSCALE:GREGORIAN
METHOD:PUBLISH
X-WR-CALNAME:OVER 90 FREE EVENTS IN DUBLIN CASTLE, CITY LIBRARIES, AND OTHER VENUES
X-ORIGINAL-URL:http://dublinfestivalofhistory.ie
X-WR-CALDESC:Events for OVER 90 FREE EVENTS IN DUBLIN CASTLE, CITY LIBRARIES, AND OTHER VENUES
BEGIN:VEVENT
DTSTART;TZID=Europe/Dublin:20160802T190000
DTEND;TZID=Europe/Dublin:20160802T190000
DTSTAMP:20171103T183237
CREATED:20160727T145713Z
LAST-MODIFIED:20160728T110636Z
UID:6145-1470164400-1470164400@dublinfestivalofhistory.ie
SUMMARY:Ballymun Test Event 2016
DESCRIPTION:Test event Test event Test event Test event Test event Test event Test event Test event Test event Test event Test event Test event Test event Test event Test event Test event Test event Test event Test event Test event Test event Test event Test event Test event Test event Test event Test event Test event Test event Test event Test event Test event Test event Test event Test event Test event Test event Test event Test event Test event Test event Test event Test event Test event Test event Test event Test event Test event Test event Test event Test event Test event Test event Test event Test event Test event Test event Test event Test event Test event Test event Test event Test event Test event Test event Test event  \n
URL:http://dublinfestivalofhistory.ie/event/ballymun-test-event-2016/
LOCATION:Main Street\, Ballymun Dublin 11\, Ireland
CATEGORIES:Events in libraries
ATTACH;FMTTYPE=image/jpeg:http://dublinfestivalofhistory.ie/wp-content/uploads/2015/08/Brian-and-the-Vikings-Dublinia-web.jpg
ORGANIZER;CN="Dublin%20Festival%20of%20History":MAILTO:festivalofhistory@dublincity.ie
END:VEVENT
END:VCALENDAR