BEGIN:VCALENDAR
VERSION:2.0
PRODID:-//OVER 90 FREE EVENTS IN DUBLIN CASTLE, CITY LIBRARIES, AND OTHER VENUES - ECPv4.6.3//NONSGML v1.0//EN
CALSCALE:GREGORIAN
METHOD:PUBLISH
X-WR-CALNAME:OVER 90 FREE EVENTS IN DUBLIN CASTLE, CITY LIBRARIES, AND OTHER VENUES
X-ORIGINAL-URL:http://dublinfestivalofhistory.ie
X-WR-CALDESC:Events for OVER 90 FREE EVENTS IN DUBLIN CASTLE, CITY LIBRARIES, AND OTHER VENUES
BEGIN:VEVENT
DTSTART;TZID=Europe/Dublin:20160804T183000
DTEND;TZID=Europe/Dublin:20160804T183000
DTSTAMP:20171103T183325
CREATED:20150728T103729Z
LAST-MODIFIED:20160728T093518Z
UID:5481-1470335400-1470335400@dublinfestivalofhistory.ie
SUMMARY:Ireland & the first global financial crisis: the Irish experience of the South Sea Bubble of 1720
DESCRIPTION:\n\n\nDr Patrick Walsh is a Research Fellow in the School of History at University College Dublin. He is the author of The South Sea Bubble and Ireland\, Money\, Banking and Investment\, 1690-1721 (2014). \nBooking is required. Please contact Phibsboro library at +353 1 8304341 or phibsborolibrary@dublincity.ie\n\n\n\n
URL:http://dublinfestivalofhistory.ie/event/ireland-the-first-global-financial-crisis-the-irish-experience-of-the-south-sea-bubble-of-1720/
LOCATION:Blacquiere Bridge\, Off North Circular Road\, Phibsboro Dublin 7\, Ireland
CATEGORIES:Events in libraries
ATTACH;FMTTYPE=image/jpeg:http://dublinfestivalofhistory.ie/wp-content/uploads/2015/07/PWalsh-web.jpg
END:VEVENT
END:VCALENDAR