BEGIN:VCALENDAR
VERSION:2.0
PRODID:-//OVER 90 FREE EVENTS IN DUBLIN CASTLE, CITY LIBRARIES, AND OTHER VENUES - ECPv4.6.3//NONSGML v1.0//EN
CALSCALE:GREGORIAN
METHOD:PUBLISH
X-WR-CALNAME:OVER 90 FREE EVENTS IN DUBLIN CASTLE, CITY LIBRARIES, AND OTHER VENUES
X-ORIGINAL-URL:http://dublinfestivalofhistory.ie
X-WR-CALDESC:Events for OVER 90 FREE EVENTS IN DUBLIN CASTLE, CITY LIBRARIES, AND OTHER VENUES
BEGIN:VEVENT
DTSTART;TZID=Europe/Dublin:20160924T110000
DTEND;TZID=Europe/Dublin:20160924T110000
DTSTAMP:20171103T190426
CREATED:20160811T152848Z
LAST-MODIFIED:20160922T093442Z
UID:6339-1474714800-1474714800@dublinfestivalofhistory.ie
SUMMARY:Medieval Mass to Georgian Splendour Guided Tour - 24th Sept - BOOKED OUT
DESCRIPTION:*** Sorry &#8211; both tours are booked out*** \nSaturday 24th September at 11am and Wednesday 28th September at 2.15pm \nThis walk will explore the area immediately around Dublin Castle. from the Viking through Medieval periods to the 18th century Wide Streets Commission. Learn how the building stock\, streetscape\, density and topography of Dublin has evolved in the last 1200 years from AD 840 to the present. \nArran Henderson is an art historian and guide specialising in reading Dublin through urban geography and history\, buildings\, decor and streetscape. His walking tours run under the banner Dublin Decoded. \nLeaving from the steps of Printworks Dublin Castle. Tickets are FREE but places are limited. Please book a place on the walk at DublinDecoded.com \n
URL:http://dublinfestivalofhistory.ie/event/medieval-mass-to-georgian-splendour/
LOCATION:Dublin Castle\, Dublin 2\, Ireland
CATEGORIES:Around the City,Walks
ATTACH;FMTTYPE=image/jpeg:http://dublinfestivalofhistory.ie/wp-content/uploads/2016/08/DFoH-BEST-MAP-cArranHenderson-Dublin-Decoded-768x576.jpg
END:VEVENT
END:VCALENDAR