BEGIN:VCALENDAR
VERSION:2.0
PRODID:-//OVER 90 FREE EVENTS IN DUBLIN CASTLE, CITY LIBRARIES, AND OTHER VENUES - ECPv4.6.3//NONSGML v1.0//EN
CALSCALE:GREGORIAN
METHOD:PUBLISH
X-WR-CALNAME:OVER 90 FREE EVENTS IN DUBLIN CASTLE, CITY LIBRARIES, AND OTHER VENUES
X-ORIGINAL-URL:https://dublinfestivalofhistory.ie
X-WR-CALDESC:Events for OVER 90 FREE EVENTS IN DUBLIN CASTLE, CITY LIBRARIES, AND OTHER VENUES
BEGIN:VEVENT
DTSTART;TZID=Europe/Dublin:20160927T143000
DTEND;TZID=Europe/Dublin:20160927T143000
DTSTAMP:20171103T192010
CREATED:20160811T083530Z
LAST-MODIFIED:20160819T092008Z
UID:6181-1474986600-1474986600@dublinfestivalofhistory.ie
SUMMARY:With their drums and their guns: Irish soldiers and their music in the American Civil War
DESCRIPTION:About 200\,000 Irishmen fought in the American Civil War\, 1860-64\, most of them in the Union Army. Listen to their stories and songs withÂ  Brendan MacQuaile. \nBrendan is a classically trained baritone who has performed widely in Ireland and abroad. He has written and performed about Irish soldiers in the First World War. \nBooking is required. Please contact Charleville Mall atÂ +353 1 8749619 or by email atÂ charlevillemalllibrary@dublincity.ie \nEvents are liable to change. To stay informed of any changes in the Festival programme\, please sign up to our mailing list \n
URL:https://dublinfestivalofhistory.ie/event/with-their-drums-and-their-guns-irish-soldiers-and-their-music-in-the-american-civil-war/
LOCATION:North Strand\, Dublin 1\, Ireland
CATEGORIES:Events in libraries
ATTACH;FMTTYPE=image/jpeg:https://dublinfestivalofhistory.ie/wp-content/uploads/2016/08/CivilWar_reenactors.jpg
END:VEVENT
BEGIN:VEVENT
DTSTART;TZID=Europe/Dublin:20160927T183000
DTEND;TZID=Europe/Dublin:20160927T183000
DTSTAMP:20171103T192010
CREATED:20160811T083410Z
LAST-MODIFIED:20160819T091912Z
UID:6180-1475001000-1475001000@dublinfestivalofhistory.ie
SUMMARY:The USSR through Irish eyes: Irish Republican women and the Soviet Union
DESCRIPTION:At the beginning of the 1930s several boats left Dublin bound for Leningrad\, populated with some of Irelandâ€™s best known women radicals such as Helena Molony\, Hanna Sheehy-Skeffington and the veteran suffragette Charlotte Despard. What brought them to Russia and how did it effect them? This lecture makes use of new material from archives in Dublin\, Britain and Russia\, much of which has never been discussed before. \nMaurice Casey is a graduate of Trinity College Dublin and Cambridge University. His research focuses on the global connections of Irish radicals during the twentieth century\, with a particular focus on the Soviet Union. \nBooking is required. Please contact Cabra Library atÂ +353 1 8691414 or by email atÂ cabralibrary@dublincity.ie \nEvents are liable to change. To stay informed of any changes in the Festival programme\, please sign up to our mailing list \n  \n
URL:https://dublinfestivalofhistory.ie/event/the-ussr-through-irish-eyes-irish-republican-women-and-the-soviet-union/
LOCATION:Navan Road\, Dublin 7\, Ireland
CATEGORIES:Events in libraries
ATTACH;FMTTYPE=image/jpeg:https://dublinfestivalofhistory.ie/wp-content/uploads/2016/07/MCasey_USSR-Through-Irish-Eyes.jpg
END:VEVENT
BEGIN:VEVENT
DTSTART;TZID=Europe/Dublin:20160927T183000
DTEND;TZID=Europe/Dublin:20160927T183000
DTSTAMP:20171103T192010
CREATED:20160811T083737Z
LAST-MODIFIED:20160811T083737Z
UID:6184-1475001000-1475001000@dublinfestivalofhistory.ie
SUMMARY:Military Archives and the 1916 Rising
DESCRIPTION:Commandant Stephen Mac Eoin\, Irish Defence Forces Director of the Military ArchivesÂ will discuss collections relating to the 1916 Rising in the Military Archives including the various genealogical sources available with reference to the Irish Citizen Army\, Cumann na mBan\, Na Fianna Ã‰ireann and Dublin Brigade Activity Reports. \nBooking is required. Please contact Coolock library atÂ +353 1 8477781 or by email atÂ coolocklibrary@dublincity.ie \nEvents are liable to change. To stay informed of any changes in the Festival programme\, please sign up to our mailing list \n
URL:https://dublinfestivalofhistory.ie/event/military-archives-and-the-1916-rising/
LOCATION:Barryscourt Road \, Dublin 17\, Ireland
CATEGORIES:Events in libraries
ATTACH;FMTTYPE=image/jpeg:https://dublinfestivalofhistory.ie/wp-content/uploads/2015/07/Ben-fagan-web.jpg
END:VEVENT
END:VCALENDAR