BEGIN:VCALENDAR
VERSION:2.0
PRODID:-//OVER 90 FREE EVENTS IN DUBLIN CASTLE, CITY LIBRARIES, AND OTHER VENUES - ECPv4.6.3//NONSGML v1.0//EN
CALSCALE:GREGORIAN
METHOD:PUBLISH
X-WR-CALNAME:OVER 90 FREE EVENTS IN DUBLIN CASTLE, CITY LIBRARIES, AND OTHER VENUES
X-ORIGINAL-URL:https://dublinfestivalofhistory.ie
X-WR-CALDESC:Events for OVER 90 FREE EVENTS IN DUBLIN CASTLE, CITY LIBRARIES, AND OTHER VENUES
BEGIN:VEVENT
DTSTART;TZID=Europe/Dublin:20161001T143000
DTEND;TZID=Europe/Dublin:20161001T143000
DTSTAMP:20171103T192150
CREATED:20160811T083213Z
LAST-MODIFIED:20160929T123017Z
UID:6174-1475332200-1475332200@dublinfestivalofhistory.ie
SUMMARY:Arthur Griffith: a life - NOTE DATE CHANGE - Sorry Booked Out
DESCRIPTION:***Sorry &#8211; Booked Out*** \n*Please note the change in date from the printed programme* \nArthur Griffith&#8217;s biographer will talk about the life and political career of this founding father of the Irish Republic. \nOwen McGee holds a PhD in historyÂ and a MA in archive studies fromÂ University College Dublin. His book Arthur Griffith was published in 2015. \nBooking is required. Please contact Donaghmede Library atÂ +353 1 8482833 or by email atÂ donaghmedelibrary@dublincity.ie \nEvents are liable to change. To stay informed of any changes in the Festival programme\, please sign up to our mailing list \n  \n
URL:https://dublinfestivalofhistory.ie/event/arthur-griffith-a-life/
LOCATION:Donaghmede Shopping Centre\, Grange Road Dublin 13\, Ireland
CATEGORIES:Events in libraries
ATTACH;FMTTYPE=image/jpeg:https://dublinfestivalofhistory.ie/wp-content/uploads/2016/07/Arthur-Griffith-front-final-copy.jpg
END:VEVENT
END:VCALENDAR